BEGIN:VCALENDAR
VERSION:2.0
PRODID:-//5.132.161.124//NONSGML kigkonsult.se iCalcreator 2.24.2//
BEGIN:VEVENT
UID:20260424T202559CEST-91040ff8fd@5.132.161.124
DTSTAMP:20260424T182559Z
DTSTART:20220530T081500Z
SUMMARY:2. Bechstein-Bruckner-Wettbewerb Österreich (30.05.2022\, 10:15)
END:VEVENT
END:VCALENDAR
