BEGIN:VCALENDAR
VERSION:2.0
PRODID:-//5.132.161.124//NONSGML kigkonsult.se iCalcreator 2.24.2//
BEGIN:VEVENT
UID:20260420T075956CEST-5628ce0ce1@5.132.161.124
DTSTAMP:20260420T055956Z
DTSTART:20221213T150000Z
SUMMARY:Alle Jahre wieder (Antons.Kidsclub 13.12.2022\, 16:00)
END:VEVENT
END:VCALENDAR
