BEGIN:VCALENDAR
VERSION:2.0
PRODID:-//5.132.161.124//NONSGML kigkonsult.se iCalcreator 2.24.2//
BEGIN:VEVENT
UID:20260421T192623CEST-1436317fc2@5.132.161.124
DTSTAMP:20260421T172623Z
DTSTART:20240128T100000Z
SUMMARY:Antonio Méndez & Bruckner Orchester Linz (28.01.2024\, 11:00)
END:VEVENT
END:VCALENDAR
