BEGIN:VCALENDAR
VERSION:2.0
PRODID:-//5.132.161.124//NONSGML kigkonsult.se iCalcreator 2.24.2//
BEGIN:VEVENT
UID:20260419T173550CEST-38662b5609@5.132.161.124
DTSTAMP:20260419T153550Z
DTSTART:20230609T173000Z
SUMMARY:Sound Waves Linz 2023 (09.06.2023\, 19:30)
END:VEVENT
END:VCALENDAR
