BEGIN:VCALENDAR
VERSION:2.0
PRODID:-//5.132.161.124//NONSGML kigkonsult.se iCalcreator 2.24.2//
BEGIN:VEVENT
UID:20260425T012435CEST-433326bce4@5.132.161.124
DTSTAMP:20260424T232435Z
DTSTART:20240611T140000Z
SUMMARY:Tanz als Beruf(ung) (Antons.Kidsclub 11.06.2024\, 16:00)
END:VEVENT
END:VCALENDAR
