BEGIN:VCALENDAR
VERSION:2.0
PRODID:-//5.132.161.124//NONSGML kigkonsult.se iCalcreator 2.24.2//
BEGIN:VEVENT
UID:20260424T034454CEST-465970ee06@5.132.161.124
DTSTAMP:20260424T014454Z
DTSTART:20240210T190000Z
SUMMARY:Litecball 2024 (10.02.2024\, 20:00)
END:VEVENT
END:VCALENDAR
