BEGIN:VCALENDAR
VERSION:2.0
PRODID:-//5.132.161.124//NONSGML kigkonsult.se iCalcreator 2.24.2//
BEGIN:VEVENT
UID:20260421T163741CEST-4442d4b323@5.132.161.124
DTSTAMP:20260421T143741Z
DTSTART:20250325T183000Z
SUMMARY:Paul Lewis (25.03.2025\, 19:30)
END:VEVENT
END:VCALENDAR
