BEGIN:VCALENDAR
VERSION:2.0
PRODID:-//5.132.161.124//NONSGML kigkonsult.se iCalcreator 2.24.2//
BEGIN:VEVENT
UID:20260420T010609CEST-5991f4ed28@5.132.161.124
DTSTAMP:20260419T230609Z
DTSTART:20250114T150000Z
SUMMARY:Neujahr mit dem Walzerkönig! (Antons.Kidsclub 14.01.2025\, 16:00)
END:VEVENT
END:VCALENDAR
