BEGIN:VCALENDAR
VERSION:2.0
PRODID:-//5.132.161.124//NONSGML kigkonsult.se iCalcreator 2.24.2//
BEGIN:VEVENT
UID:20260425T140346CEST-32109fa1f1@5.132.161.124
DTSTAMP:20260425T120346Z
DTSTART:20260617T173000Z
SUMMARY:Maria Ioudenitch & Roman Borisov (17.06.2026\, 19:30)
END:VEVENT
END:VCALENDAR
