BEGIN:VCALENDAR
VERSION:2.0
PRODID:-//5.132.161.124//NONSGML kigkonsult.se iCalcreator 2.24.2//
BEGIN:VEVENT
UID:20260425T140249CEST-40599f5d94@5.132.161.124
DTSTAMP:20260425T120249Z
DTSTART:20260612T070000Z
SUMMARY:Grand Hotel Federspiel - Volksschulkonzert 6+ (12.06.2026\, 09:00)
END:VEVENT
END:VCALENDAR
