BEGIN:VCALENDAR
VERSION:2.0
PRODID:-//5.132.161.124//NONSGML kigkonsult.se iCalcreator 2.24.2//
BEGIN:VEVENT
UID:20260425T141532CEST-131945249d@5.132.161.124
DTSTAMP:20260425T121532Z
DTSTART:20260612T083000Z
SUMMARY:Grand Hotel Federspiel - Volksschulkonzert 6+ (12.06.2026\, 10:30
END:VEVENT
END:VCALENDAR
