BEGIN:VCALENDAR
VERSION:2.0
PRODID:-//5.132.161.124//NONSGML kigkonsult.se iCalcreator 2.24.2//
BEGIN:VEVENT
UID:20260422T084645CEST-386483b97a@5.132.161.124
DTSTAMP:20260422T064645Z
DTSTART:20260616T180000Z
SUMMARY:The Ten Tenors (16.06.2026\, 20:00)
END:VEVENT
END:VCALENDAR
