BEGIN:VCALENDAR
VERSION:2.0
PRODID:-//5.132.161.124//NONSGML kigkonsult.se iCalcreator 2.24.2//
BEGIN:VEVENT
UID:20260421T200311CEST-01793d9594@5.132.161.124
DTSTAMP:20260421T180311Z
DTSTART:20260920T140000Z
SUMMARY:Viscontis Senso (20.09.2026\, 16:00)
END:VEVENT
END:VCALENDAR
