BEGIN:VCALENDAR
VERSION:2.0
PRODID:-//5.132.161.124//NONSGML kigkonsult.se iCalcreator 2.24.2//
BEGIN:VEVENT
UID:20260421T201906CEST-482002667a@5.132.161.124
DTSTAMP:20260421T181906Z
DTSTART:20260924T173000Z
SUMMARY:Hanni Liang (24.09.2026\, 19:30)
END:VEVENT
END:VCALENDAR
