BEGIN:VCALENDAR
VERSION:2.0
PRODID:-//5.132.161.124//NONSGML kigkonsult.se iCalcreator 2.24.2//
BEGIN:VEVENT
UID:20260421T200537CEST-837552bbea@5.132.161.124
DTSTAMP:20260421T180537Z
DTSTART:20260925T090000Z
SUMMARY:Charlie Chaplins The Tramp Schulkonzert10+ (25.09.2026\, 11:00)
END:VEVENT
END:VCALENDAR
