BEGIN:VCALENDAR
VERSION:2.0
PRODID:-//5.132.161.124//NONSGML kigkonsult.se iCalcreator 2.24.2//
BEGIN:VEVENT
UID:20260421T203055CEST-9820dc2af9@5.132.161.124
DTSTAMP:20260421T183055Z
DTSTART:20260926T090000Z
SUMMARY:Familienkonzert im Brucknerfest Großer Saal (26.09.2026\, 11:00)
END:VEVENT
END:VCALENDAR
