BEGIN:VCALENDAR
VERSION:2.0
PRODID:-//5.132.161.124//NONSGML kigkonsult.se iCalcreator 2.24.2//
BEGIN:VEVENT
UID:20260421T034745CEST-6135fcfd60@5.132.161.124
DTSTAMP:20260421T014745Z
DTSTART:20220121T190000Z
SUMMARY:Der kleine Prinz - Das Musical (21.1.2022\, 20:00)
END:VEVENT
END:VCALENDAR
