BEGIN:VCALENDAR
VERSION:2.0
PRODID:-//5.132.161.124//NONSGML kigkonsult.se iCalcreator 2.24.2//
BEGIN:VEVENT
UID:20260419T174459CEST-18894713f7@5.132.161.124
DTSTAMP:20260419T154459Z
DTSTART:20250603T140000Z
SUMMARY:Ausflug mit Jazz (Antons.Kidsclub 03.06.2025\, 16:00)
END:VEVENT
END:VCALENDAR
