BEGIN:VCALENDAR
VERSION:2.0
PRODID:-//5.132.161.124//NONSGML kigkonsult.se iCalcreator 2.24.2//
BEGIN:VEVENT
UID:20260419T174407CEST-0271deb8c1@5.132.161.124
DTSTAMP:20260419T154407Z
DTSTART:20250520T140000Z
SUMMARY:Im Rampenlicht (Antons.Kidsclub 20.05.2025\, 16:00)
END:VEVENT
END:VCALENDAR
