BEGIN:VCALENDAR
VERSION:2.0
PRODID:-//5.132.161.124//NONSGML kigkonsult.se iCalcreator 2.24.2//
BEGIN:VEVENT
UID:20260419T173600CEST-44892df10a@5.132.161.124
DTSTAMP:20260419T153600Z
DTSTART:20250925T173000Z
SUMMARY:Poschner\, Albanese & Bruckner Orchester Linz (25.09.2025\, 19:30)
END:VEVENT
END:VCALENDAR
