BEGIN:VCALENDAR
VERSION:2.0
PRODID:-//5.132.161.124//NONSGML kigkonsult.se iCalcreator 2.24.2//
BEGIN:VEVENT
UID:20260419T172210CEST-7815ee4e31@5.132.161.124
DTSTAMP:20260419T152210Z
DTSTART:20250926T083000Z
SUMMARY:ZONZO Companie Orchestrascope-Volksschulkonzert (26.09.2025\, 10:30
 )
END:VEVENT
END:VCALENDAR
