BEGIN:VCALENDAR
VERSION:2.0
PRODID:-//5.132.161.124//NONSGML kigkonsult.se iCalcreator 2.24.2//
BEGIN:VEVENT
UID:20260419T173322CEST-273664ae56@5.132.161.124
DTSTAMP:20260419T153322Z
DTSTART:20251007T090000Z
SUMMARY:Sherlock\, jr. - Matan Porat - Schulkonzert 10+ (07.10.2025\, 11:00
 )
END:VEVENT
END:VCALENDAR
