BEGIN:VCALENDAR
VERSION:2.0
PRODID:-//5.132.161.124//NONSGML kigkonsult.se iCalcreator 2.24.2//
BEGIN:VEVENT
UID:20260419T175526CEST-3729b440a3@5.132.161.124
DTSTAMP:20260419T155526Z
DTSTART:20251007T173000Z
SUMMARY:Grams\, Murray\, Kanneh-Mason & Chineke! Orchestra (07.10.2025\, 19
 :30)
END:VEVENT
END:VCALENDAR
