BEGIN:VCALENDAR
VERSION:2.0
PRODID:-//5.132.161.124//NONSGML kigkonsult.se iCalcreator 2.24.2//
BEGIN:VEVENT
UID:20260419T174700CEST-4180b0d265@5.132.161.124
DTSTAMP:20260419T154700Z
DTSTART:20251210T183000Z
SUMMARY:Hrůša & Wiener Philharmoniker (10.12.2025\, 19:30)
END:VEVENT
END:VCALENDAR
