BEGIN:VCALENDAR
VERSION:2.0
PRODID:-//5.132.161.124//NONSGML kigkonsult.se iCalcreator 2.24.2//
BEGIN:VEVENT
UID:20260419T174221CEST-3610f8cacc@5.132.161.124
DTSTAMP:20260419T154221Z
DTSTART:20260302T183000Z
SUMMARY:Afkham\, Ferrández & Orquesta Nacional de España (02.03.2026\, 19:3
 0)
END:VEVENT
END:VCALENDAR
