BEGIN:VCALENDAR
VERSION:2.0
PRODID:-//5.132.161.124//NONSGML kigkonsult.se iCalcreator 2.24.2//
BEGIN:VEVENT
UID:20260419T174531CEST-28911d038e@5.132.161.124
DTSTAMP:20260419T154531Z
DTSTART:20260414T173000Z
SUMMARY:Steinaecker\, Hagen & Bruckner Orchester Linz (14.04.2026\, 19:30)
END:VEVENT
END:VCALENDAR
