BEGIN:VCALENDAR
VERSION:2.0
PRODID:-//5.132.161.124//NONSGML kigkonsult.se iCalcreator 2.24.2//
BEGIN:VEVENT
UID:20260419T142239CEST-21095b34ba@5.132.161.124
DTSTAMP:20260419T122239Z
DTSTART:20260529T173000Z
SUMMARY:Mallwitz\, Ott & Konzerthausorchester Berlin (29.05.2026\, 19:30)
END:VEVENT
END:VCALENDAR
