BEGIN:VCALENDAR
VERSION:2.0
PRODID:-//5.132.161.124//NONSGML kigkonsult.se iCalcreator 2.24.2//
BEGIN:VEVENT
UID:20260419T173322CEST-3985e65663@5.132.161.124
DTSTAMP:20260419T153322Z
DTSTART:20251102T100000Z
SUMMARY:Gottfried\, Lindsey\, Nigl & Concentus Musicus Wien (02.11.2025\, 1
 1:00)
END:VEVENT
END:VCALENDAR
