BEGIN:VCALENDAR
VERSION:2.0
PRODID:-//5.132.161.124//NONSGML kigkonsult.se iCalcreator 2.24.2//
BEGIN:VEVENT
UID:20260419T174039CEST-77062ccee3@5.132.161.124
DTSTAMP:20260419T154039Z
DTSTART:20260201T100000Z
SUMMARY:Tali\, Braunstein & Bruckner Orchester Linz (01.02.2026\, 11:00)
END:VEVENT
END:VCALENDAR
