BEGIN:VCALENDAR
VERSION:2.0
PRODID:-//5.132.161.124//NONSGML kigkonsult.se iCalcreator 2.24.2//
BEGIN:VEVENT
UID:20260419T142104CEST-091814886d@5.132.161.124
DTSTAMP:20260419T122104Z
DTSTART:20260510T090000Z
SUMMARY:Gaigg\, Pashchenko & L’Orfeo Barockorchester (10.05.2026\, 11:00)
END:VEVENT
END:VCALENDAR
