BEGIN:VCALENDAR
VERSION:2.0
PRODID:-//5.132.161.124//NONSGML kigkonsult.se iCalcreator 2.24.2//
BEGIN:VEVENT
UID:20260419T172904CEST-9745b21e54@5.132.161.124
DTSTAMP:20260419T152904Z
DTSTART:20250924T103000Z
SUMMARY:Zwischen Wien und Hollywood (Kost-Probe 24.09.2025\, 12:30)
END:VEVENT
END:VCALENDAR
