BEGIN:VCALENDAR
VERSION:2.0
PRODID:-//5.132.161.124//NONSGML kigkonsult.se iCalcreator 2.24.2//
BEGIN:VEVENT
UID:20260419T172319CEST-41348fa283@5.132.161.124
DTSTAMP:20260419T152319Z
DTSTART:20251014T103000Z
SUMMARY:Beethovens Achte (Kost-Probe 14.10.2025\, 12:30)
END:VEVENT
END:VCALENDAR
