BEGIN:VCALENDAR
VERSION:2.0
PRODID:-//5.132.161.124//NONSGML kigkonsult.se iCalcreator 2.24.2//
BEGIN:VEVENT
UID:20260419T174056CEST-62715a0798@5.132.161.124
DTSTAMP:20260419T154056Z
DTSTART:20260305T183000Z
SUMMARY:#Drei: Richard! (05.03.2026\,19:30)
END:VEVENT
END:VCALENDAR
