BEGIN:VCALENDAR
VERSION:2.0
PRODID:-//5.132.161.124//NONSGML kigkonsult.se iCalcreator 2.24.2//
BEGIN:VEVENT
UID:20260419T142233CEST-73337575f8@5.132.161.124
DTSTAMP:20260419T122233Z
DTSTART:20260619T173000Z
SUMMARY:#Fünf: Neunte! (19.06.2026\,19:30)
END:VEVENT
END:VCALENDAR
