BEGIN:VCALENDAR
VERSION:2.0
PRODID:-//5.132.161.124//NONSGML kigkonsult.se iCalcreator 2.24.2//
BEGIN:VEVENT
UID:20260419T174159CEST-752147ccc7@5.132.161.124
DTSTAMP:20260419T154159Z
DTSTART:20251107T183000Z
SUMMARY:Schneider & Bachchor Salzburg (07.11.2025\, 19:30)
END:VEVENT
END:VCALENDAR
