BEGIN:VCALENDAR
VERSION:2.0
PRODID:-//5.132.161.124//NONSGML kigkonsult.se iCalcreator 2.24.2//
BEGIN:VEVENT
UID:20260419T142057CEST-36548afaf0@5.132.161.124
DTSTAMP:20260419T122057Z
DTSTART:20260507T173000Z
SUMMARY:La Venexiana & Teatri 35 (07.05.2026\, 19:30)
END:VEVENT
END:VCALENDAR
