BEGIN:VCALENDAR
VERSION:2.0
PRODID:-//5.132.161.124//NONSGML kigkonsult.se iCalcreator 2.24.2//
BEGIN:VEVENT
UID:20260419T172824CEST-02191c008f@5.132.161.124
DTSTAMP:20260419T152824Z
DTSTART:20260327T183000Z
SUMMARY:Ferlesch\, Barucco & Chor ad Libitum - Zusatzkonzert (27.03.2026\, 
 19:30)
END:VEVENT
END:VCALENDAR
