BEGIN:VCALENDAR
VERSION:2.0
PRODID:-//5.132.161.124//NONSGML kigkonsult.se iCalcreator 2.24.2//
BEGIN:VEVENT
UID:20260419T173844CEST-48209a5956@5.132.161.124
DTSTAMP:20260419T153844Z
DTSTART:20251112T183000Z
SUMMARY:Quatuor Ébène (12.11.2025\, 19:30)
END:VEVENT
END:VCALENDAR
