BEGIN:VCALENDAR
VERSION:2.0
PRODID:-//5.132.161.124//NONSGML kigkonsult.se iCalcreator 2.24.2//
BEGIN:VEVENT
UID:20260419T172746CEST-988445a18d@5.132.161.124
DTSTAMP:20260419T152746Z
DTSTART:20260313T183000Z
SUMMARY:Minguet Quartett (13.03.2026\, 19:30)
END:VEVENT
END:VCALENDAR
