BEGIN:VCALENDAR
VERSION:2.0
PRODID:-//5.132.161.124//NONSGML kigkonsult.se iCalcreator 2.24.2//
BEGIN:VEVENT
UID:20260419T142239CEST-203949841d@5.132.161.124
DTSTAMP:20260419T122239Z
DTSTART:20260502T173000Z
SUMMARY:Jean-Guihen Queyras & Alexander Melnikov (02.05.2026\, 19:30)
END:VEVENT
END:VCALENDAR
