BEGIN:VCALENDAR
VERSION:2.0
PRODID:-//5.132.161.124//NONSGML kigkonsult.se iCalcreator 2.24.2//
BEGIN:VEVENT
UID:20260419T174056CEST-6458441da3@5.132.161.124
DTSTAMP:20260419T154056Z
DTSTART:20251122T183000Z
SUMMARY:Yoav Levanon (22.11.2025\, 19:30)
END:VEVENT
END:VCALENDAR
