BEGIN:VCALENDAR
VERSION:2.0
PRODID:-//5.132.161.124//NONSGML kigkonsult.se iCalcreator 2.24.2//
BEGIN:VEVENT
UID:20260419T173817CEST-6623bfe07b@5.132.161.124
DTSTAMP:20260419T153817Z
DTSTART:20260228T183000Z
SUMMARY:Rafał Blechacz (28.02.2026\, 19:30)
END:VEVENT
END:VCALENDAR
