BEGIN:VCALENDAR
VERSION:2.0
PRODID:-//5.132.161.124//NONSGML kigkonsult.se iCalcreator 2.24.2//
BEGIN:VEVENT
UID:20260419T142259CEST-93075b4cfe@5.132.161.124
DTSTAMP:20260419T122259Z
DTSTART:20260429T173000Z
SUMMARY:Isata Kanneh-Mason (29.04.2026\, 19:30)
END:VEVENT
END:VCALENDAR
