BEGIN:VCALENDAR
VERSION:2.0
PRODID:-//5.132.161.124//NONSGML kigkonsult.se iCalcreator 2.24.2//
BEGIN:VEVENT
UID:20260419T213758CEST-61865b56d7@5.132.161.124
DTSTAMP:20260419T193758Z
DTSTART:20251023T173000Z
SUMMARY:Preisträger:in-Konzert (23.10.2025\, 19:30)
END:VEVENT
END:VCALENDAR
