BEGIN:VCALENDAR
VERSION:2.0
PRODID:-//5.132.161.124//NONSGML kigkonsult.se iCalcreator 2.24.2//
BEGIN:VEVENT
UID:20260419T174018CEST-6155002d74@5.132.161.124
DTSTAMP:20260419T154018Z
DTSTART:20251211T183000Z
SUMMARY:Anna Leyerer (11.12.2025\, 19:30)
END:VEVENT
END:VCALENDAR
