BEGIN:VCALENDAR
VERSION:2.0
PRODID:-//5.132.161.124//NONSGML kigkonsult.se iCalcreator 2.24.2//
BEGIN:VEVENT
UID:20260419T173605CEST-8744abca4c@5.132.161.124
DTSTAMP:20260419T153605Z
DTSTART:20260325T183000Z
SUMMARY:Chiyan Wong  (25.03.2026\, 19:30)
END:VEVENT
END:VCALENDAR
