BEGIN:VCALENDAR
VERSION:2.0
PRODID:-//5.132.161.124//NONSGML kigkonsult.se iCalcreator 2.24.2//
BEGIN:VEVENT
UID:20260419T174153CEST-5018d6124d@5.132.161.124
DTSTAMP:20260419T154153Z
DTSTART:20251104T183000Z
SUMMARY:Nils Wanderer & Daniel Heide (04.11.2025\, 19:30)
END:VEVENT
END:VCALENDAR
