BEGIN:VCALENDAR
VERSION:2.0
PRODID:-//5.132.161.124//NONSGML kigkonsult.se iCalcreator 2.24.2//
BEGIN:VEVENT
UID:20260419T173817CEST-7770aa438a@5.132.161.124
DTSTAMP:20260419T153817Z
DTSTART:20251202T183000Z
SUMMARY:Ettore Pagano & Maximilian Kromer (02.12.2025\, 19:30)
END:VEVENT
END:VCALENDAR
