BEGIN:VCALENDAR
VERSION:2.0
PRODID:-//5.132.161.124//NONSGML kigkonsult.se iCalcreator 2.24.2//
BEGIN:VEVENT
UID:20260419T174153CEST-4452614c41@5.132.161.124
DTSTAMP:20260419T154153Z
DTSTART:20260317T183000Z
SUMMARY:MokkaBarock (17.03.2026\, 19:30)
END:VEVENT
END:VCALENDAR
