BEGIN:VCALENDAR
VERSION:2.0
PRODID:-//5.132.161.124//NONSGML kigkonsult.se iCalcreator 2.24.2//
BEGIN:VEVENT
UID:20260419T173718CEST-949553af4c@5.132.161.124
DTSTAMP:20260419T153718Z
DTSTART:20260408T173000Z
SUMMARY:Christoph Sietzen & Martin Riccabona (08.04.2026\, 19:30)
END:VEVENT
END:VCALENDAR
